BEGIN:VCALENDAR
VERSION:2.0
PRODID:-//Clifton Campville with Thorpe Constantine Parish Council//Meeting Calendar//EN
CALSCALE:GREGORIAN
METHOD:PUBLISH
BEGIN:VEVENT
UID:70615-20260303@cliftoncampvillewiththorpeconstantineparishcouncil.gov.uk
DTSTAMP:20260419T135141Z
DTSTART;VALUE=DATE:20260303
DTEND;VALUE=DATE:20260304
SUMMARY:Annual Parish Council Meeting &#8211\\; 3rd March 2026
DESCRIPTION:Annual Parish Meeting\nView details: https://cliftoncampvillewiththorpeconstantineparishcouncil.gov.uk/meetings/annual-parish-council-meeting-3rd-march-2026/
URL:https://cliftoncampvillewiththorpeconstantineparishcouncil.gov.uk/meetings/annual-parish-council-meeting-3rd-march-2026/
END:VEVENT
END:VCALENDAR
