BEGIN:VCALENDAR
VERSION:2.0
PRODID:-//Clifton Campville with Thorpe Constantine Parish Council//Meeting Calendar//EN
CALSCALE:GREGORIAN
METHOD:PUBLISH
BEGIN:VEVENT
UID:70564-20220101@cliftoncampvillewiththorpeconstantineparishcouncil.gov.uk
DTSTAMP:20260419T155612Z
DTSTART;VALUE=DATE:20220101
DTEND;VALUE=DATE:20220102
SUMMARY:Council Meetings &#8211\\; 2022
DESCRIPTION:Full Council Meeting\nView details: https://cliftoncampvillewiththorpeconstantineparishcouncil.gov.uk/meetings/council-meetings-2022/
URL:https://cliftoncampvillewiththorpeconstantineparishcouncil.gov.uk/meetings/council-meetings-2022/
END:VEVENT
END:VCALENDAR
