BEGIN:VCALENDAR
VERSION:2.0
PRODID:-//Clifton Campville with Thorpe Constantine Parish Council//Meeting Calendar//EN
CALSCALE:GREGORIAN
METHOD:PUBLISH
BEGIN:VEVENT
UID:70540-20250408@cliftoncampvillewiththorpeconstantineparishcouncil.gov.uk
DTSTAMP:20260419T175327Z
DTSTART;VALUE=DATE:20250408
DTEND;VALUE=DATE:20250409
SUMMARY:Extraordinary Council Meeting &#8211\\; 8 April 2025
DESCRIPTION:Full Council Meeting\nView details: https://cliftoncampvillewiththorpeconstantineparishcouncil.gov.uk/meetings/extraordinary-council-meeting-8-april-2025/
URL:https://cliftoncampvillewiththorpeconstantineparishcouncil.gov.uk/meetings/extraordinary-council-meeting-8-april-2025/
END:VEVENT
END:VCALENDAR
