BEGIN:VCALENDAR
VERSION:2.0
PRODID:-//Clifton Campville with Thorpe Constantine Parish Council//Meeting Calendar//EN
CALSCALE:GREGORIAN
METHOD:PUBLISH
BEGIN:VEVENT
UID:70538-20250522@cliftoncampvillewiththorpeconstantineparishcouncil.gov.uk
DTSTAMP:20260419T174255Z
DTSTART;VALUE=DATE:20250522
DTEND;VALUE=DATE:20250523
SUMMARY:Annual Council Meeting &#8211\\; 22 May 2025
DESCRIPTION:Annual Parish Meeting\nView details: https://cliftoncampvillewiththorpeconstantineparishcouncil.gov.uk/meetings/annual-council-meeting-22-may-2025/
URL:https://cliftoncampvillewiththorpeconstantineparishcouncil.gov.uk/meetings/annual-council-meeting-22-may-2025/
END:VEVENT
END:VCALENDAR
