BEGIN:VCALENDAR
VERSION:2.0
PRODID:-//Clifton Campville with Thorpe Constantine Parish Council//Meeting Calendar//EN
CALSCALE:GREGORIAN
METHOD:PUBLISH
BEGIN:VEVENT
UID:70536-20250715@cliftoncampvillewiththorpeconstantineparishcouncil.gov.uk
DTSTAMP:20260419T155420Z
DTSTART;VALUE=DATE:20250715
DTEND;VALUE=DATE:20250716
SUMMARY:Council Meeting &#8211\\; 15 July 2025
DESCRIPTION:Full Council Meeting\nView details: https://cliftoncampvillewiththorpeconstantineparishcouncil.gov.uk/meetings/council-meeting-15-july-2025/
URL:https://cliftoncampvillewiththorpeconstantineparishcouncil.gov.uk/meetings/council-meeting-15-july-2025/
END:VEVENT
END:VCALENDAR
