BEGIN:VCALENDAR
VERSION:2.0
PRODID:-//Clifton Campville with Thorpe Constantine Parish Council//Meeting Calendar//EN
CALSCALE:GREGORIAN
METHOD:PUBLISH
BEGIN:VEVENT
UID:70534-20250909@cliftoncampvillewiththorpeconstantineparishcouncil.gov.uk
DTSTAMP:20260419T155457Z
DTSTART;VALUE=DATE:20250909
DTEND;VALUE=DATE:20250910
SUMMARY:Council Meeting &#8211\\; 9 September 2025
DESCRIPTION:Full Council Meeting\nView details: https://cliftoncampvillewiththorpeconstantineparishcouncil.gov.uk/meetings/council-meeting-9-september-2025/
URL:https://cliftoncampvillewiththorpeconstantineparishcouncil.gov.uk/meetings/council-meeting-9-september-2025/
END:VEVENT
END:VCALENDAR
