BEGIN:VCALENDAR
VERSION:2.0
PRODID:-//Clifton Campville with Thorpe Constantine Parish Council//Meeting Calendar//EN
CALSCALE:GREGORIAN
METHOD:PUBLISH
BEGIN:VEVENT
UID:70532-20251109@cliftoncampvillewiththorpeconstantineparishcouncil.gov.uk
DTSTAMP:20260419T155420Z
DTSTART;VALUE=DATE:20251109
DTEND;VALUE=DATE:20251110
SUMMARY:Council Meeting &#8211\\; 9 November 2025
DESCRIPTION:Full Council Meeting\nView details: https://cliftoncampvillewiththorpeconstantineparishcouncil.gov.uk/meetings/council-meeting-9-november-2025/
URL:https://cliftoncampvillewiththorpeconstantineparishcouncil.gov.uk/meetings/council-meeting-9-november-2025/
END:VEVENT
END:VCALENDAR
