BEGIN:VCALENDAR
VERSION:2.0
PRODID:-//Clifton Campville with Thorpe Constantine Parish Council//Meeting Calendar//EN
CALSCALE:GREGORIAN
METHOD:PUBLISH
BEGIN:VEVENT
UID:70527-20220510@cliftoncampvillewiththorpeconstantineparishcouncil.gov.uk
DTSTAMP:20260419T155612Z
DTSTART;VALUE=DATE:20220510
DTEND;VALUE=DATE:20220511
SUMMARY:Annual Council Meeting &#8211\\; 10 May 2022
DESCRIPTION:Annual Parish Meeting\nView details: https://cliftoncampvillewiththorpeconstantineparishcouncil.gov.uk/meetings/annual-council-meeting-10-may-2022/
URL:https://cliftoncampvillewiththorpeconstantineparishcouncil.gov.uk/meetings/annual-council-meeting-10-may-2022/
END:VEVENT
END:VCALENDAR
