BEGIN:VCALENDAR
VERSION:2.0
PRODID:-//Clifton Campville with Thorpe Constantine Parish Council//Meeting Calendar//EN
CALSCALE:GREGORIAN
METHOD:PUBLISH
BEGIN:VEVENT
UID:70523-20240507@cliftoncampvillewiththorpeconstantineparishcouncil.gov.uk
DTSTAMP:20260419T174924Z
DTSTART;VALUE=DATE:20240507
DTEND;VALUE=DATE:20240508
SUMMARY:Annual Parish Meeting &#8211\\; 7 May 2024
DESCRIPTION:Annual Parish Meeting\nView details: https://cliftoncampvillewiththorpeconstantineparishcouncil.gov.uk/meetings/annual-parish-meeting-7-may-2024/
URL:https://cliftoncampvillewiththorpeconstantineparishcouncil.gov.uk/meetings/annual-parish-meeting-7-may-2024/
END:VEVENT
END:VCALENDAR
