BEGIN:VCALENDAR
VERSION:2.0
PRODID:-//Clifton Campville with Thorpe Constantine Parish Council//Meeting Calendar//EN
CALSCALE:GREGORIAN
METHOD:PUBLISH
BEGIN:VEVENT
UID:70521-20251202@cliftoncampvillewiththorpeconstantineparishcouncil.gov.uk
DTSTAMP:20260419T135141Z
DTSTART;VALUE=DATE:20251202
DTEND;VALUE=DATE:20251203
SUMMARY:Annual Parish Council Meeting &#8211\\; 2 December 2025
DESCRIPTION:Annual Parish Meeting\nView details: https://cliftoncampvillewiththorpeconstantineparishcouncil.gov.uk/meetings/annual-parish-council-meeting-2-december-2025/
URL:https://cliftoncampvillewiththorpeconstantineparishcouncil.gov.uk/meetings/annual-parish-council-meeting-2-december-2025/
END:VEVENT
END:VCALENDAR
