BEGIN:VCALENDAR
VERSION:2.0
PRODID:-//Clifton Campville with Thorpe Constantine Parish Council//Meeting Calendar//EN
CALSCALE:GREGORIAN
METHOD:PUBLISH
BEGIN:VEVENT
UID:70519-20260106@cliftoncampvillewiththorpeconstantineparishcouncil.gov.uk
DTSTAMP:20260419T135218Z
DTSTART;VALUE=DATE:20260106
DTEND;VALUE=DATE:20260107
SUMMARY:Annual Parish Council Meeting &#8211\\; 6 January 2026
DESCRIPTION:Annual Parish Meeting\nView details: https://cliftoncampvillewiththorpeconstantineparishcouncil.gov.uk/meetings/annual-parish-council-meeting-6-january-2026/
URL:https://cliftoncampvillewiththorpeconstantineparishcouncil.gov.uk/meetings/annual-parish-council-meeting-6-january-2026/
END:VEVENT
END:VCALENDAR
